BEGIN:VCALENDAR
VERSION:2.0
PRODID:-//Associação de Atletismo da Região Autónoma da Madeira - ECPv5.1.6//NONSGML v1.0//EN
CALSCALE:GREGORIAN
METHOD:PUBLISH
X-WR-CALNAME:Associação de Atletismo da Região Autónoma da Madeira
X-ORIGINAL-URL:http://atletismodamadeira.pt
X-WR-CALDESC:Events for Associação de Atletismo da Região Autónoma da Madeira
BEGIN:VTIMEZONE
TZID:Atlantic/Madeira
BEGIN:DAYLIGHT
TZOFFSETFROM:+0000
TZOFFSETTO:+0100
TZNAME:WEST
DTSTART:20230326T010000
END:DAYLIGHT
BEGIN:STANDARD
TZOFFSETFROM:+0100
TZOFFSETTO:+0000
TZNAME:WET
DTSTART:20231029T010000
END:STANDARD
END:VTIMEZONE
BEGIN:VEVENT
DTSTART;TZID=Atlantic/Madeira:20230301T000000
DTEND;TZID=Atlantic/Madeira:20230331T000000
DTSTAMP:20260421T105423
CREATED:20230309T095949Z
LAST-MODIFIED:20230309T100054Z
UID:30203-1677628800-1680220800@atletismodamadeira.pt
SUMMARY:III Corrida Virtual – Faz das Tripas Coração
DESCRIPTION:Esta corrida é aberta a toda a população sem restrições de idade\, podendo ser feita a correr ou a caminhar.\nO participante escolhe a sua distância\, e deverá ser realizada entre o dia 1 e 31 de março 2023.\nEste evento não tem carácter competitivo e é de cariz solidário\, com o objetivo de apoiar a Liga Portuguesa Contra o Cancro.\nO participante terá de fazer o registo da sua corrida/marcha numa aplicação digital de corrida\, em que uma vez realizada possa fazer o download do seu registo e enviar esse comprovativo para a plataforma Lap2Go que irá reunir todos os registos numa publicação online.
URL:http://atletismodamadeira.pt/event/iii-corrida-virtual-faz-das-tripas-coracao/
LOCATION:Ilha da Madeira
END:VEVENT
BEGIN:VEVENT
DTSTART;VALUE=DATE:20230318
DTEND;VALUE=DATE:20230319
DTSTAMP:20260421T105423
CREATED:20230202T152458Z
LAST-MODIFIED:20230318T145238Z
UID:29778-1679097600-1679183999@atletismodamadeira.pt
SUMMARY:Campeonatos Regionais Escolares - jorn.2
DESCRIPTION:Local: Estádio de Câmara de Lobos \nOrganização: DSDE/AARAM \nÂmbito: Regional \nObservações: Desporto Escolar \n  \n \n \n 
URL:http://atletismodamadeira.pt/event/campeonatos-regionais-escolares-jorn-2/
LOCATION:Câmara de Lobos – Estádio\, Sítio do Carmo\, Câmara de Lobos\, Madeira\, 9300\, Portugal
CATEGORIES:Pista / Escolar,Regional
ATTACH;FMTTYPE=image/png:http://atletismodamadeira.pt/wp-content/uploads/2023/02/Fedelho-DE-ATLETISMO.png
ORGANIZER;CN="DSDE%2FAARAM":MAILTO:dsde.atletismo@gmail.com
END:VEVENT
BEGIN:VEVENT
DTSTART;VALUE=DATE:20230318
DTEND;VALUE=DATE:20230319
DTSTAMP:20260421T105423
CREATED:20230210T125449Z
LAST-MODIFIED:20230318T144719Z
UID:29833-1679097600-1679183999@atletismodamadeira.pt
SUMMARY:Trail Calheta 2023
DESCRIPTION:Âmbito: Regional \nOrganização: AARAM/ECFC \nObservações: Trail Madeira \n  \n\n(Curto)(Longo)
URL:http://atletismodamadeira.pt/event/trail-calheta-2023/
LOCATION:Calheta\, Portugal
CATEGORIES:Regional,Trail,Trail Madeira
END:VEVENT
END:VCALENDAR