BEGIN:VCALENDAR
VERSION:2.0
PRODID:-//Associação de Atletismo da Região Autónoma da Madeira - ECPv5.1.6//NONSGML v1.0//EN
CALSCALE:GREGORIAN
METHOD:PUBLISH
X-WR-CALNAME:Associação de Atletismo da Região Autónoma da Madeira
X-ORIGINAL-URL:http://atletismodamadeira.pt
X-WR-CALDESC:Events for Associação de Atletismo da Região Autónoma da Madeira
BEGIN:VTIMEZONE
TZID:Atlantic/Madeira
BEGIN:DAYLIGHT
TZOFFSETFROM:+0000
TZOFFSETTO:+0100
TZNAME:WEST
DTSTART:20260329T010000
END:DAYLIGHT
BEGIN:STANDARD
TZOFFSETFROM:+0100
TZOFFSETTO:+0000
TZNAME:WET
DTSTART:20261025T010000
END:STANDARD
END:VTIMEZONE
BEGIN:VEVENT
DTSTART;VALUE=DATE:20260411
DTEND;VALUE=DATE:20260412
DTSTAMP:20260420T060629
CREATED:20260225T164317Z
LAST-MODIFIED:20260413T113231Z
UID:43316-1775865600-1775951999@atletismodamadeira.pt
SUMMARY:Campeonatos Regionais de Estafetas
DESCRIPTION:Local: Ribeira Brava (CDM)\n \nOrganização: AARAM\n \nÂmbito: Regional \nObservações: Conta para as classificações coletivas dos CR sub-14\, sub-16\, sub-18 e sub-20 
URL:http://atletismodamadeira.pt/event/campeonatos-regionais-de-estafetas-4/
LOCATION:Ribeira Brava (CDM)\, Sítio da Fajã da Ribeira (7\,95 km)\, Ribeira Brava\, Madeira\, 9350-147\, Portugal
CATEGORIES:PACRAM,Pista,Regional
END:VEVENT
BEGIN:VEVENT
DTSTART;VALUE=DATE:20260411
DTEND;VALUE=DATE:20260412
DTSTAMP:20260420T060629
CREATED:20260225T165328Z
LAST-MODIFIED:20260411T101656Z
UID:43319-1775865600-1775951999@atletismodamadeira.pt
SUMMARY:5º Encontro Fun'Athletics - sub-12
DESCRIPTION:Local: Água de Pena -> Machico (Estádio)\n \nOrganização: ADRAP/AARAM \nÂmbito: Regional \nObservações: Taça Fun’Athletics \n 
URL:http://atletismodamadeira.pt/event/5o-encontro-funathletics-sub-12-3/
LOCATION:Machico\, Portugal
CATEGORIES:Pista,Taça Fun'Athletics
END:VEVENT
BEGIN:VEVENT
DTSTART;VALUE=DATE:20260412
DTEND;VALUE=DATE:20260413
DTSTAMP:20260420T060629
CREATED:20260122T173208Z
LAST-MODIFIED:20260412T165438Z
UID:42930-1775952000-1776038399@atletismodamadeira.pt
SUMMARY:Grande Prémio das Cerejeiras em Flor
DESCRIPTION:Local: Jardim da Serra\n \nOrganização: ACDJS/AARAM\n \nÂmbito: Regional \nObservações: Madeira a Correr\n \n  \n \n \n \n \n \n \n 
URL:http://atletismodamadeira.pt/event/grande-premio-das-cerejeiras-em-flor-4/
LOCATION:Jardim da Serra\, Portugal
CATEGORIES:Estrada,Madeira a Correr,Regional
END:VEVENT
BEGIN:VEVENT
DTSTART;VALUE=DATE:20260418
DTEND;VALUE=DATE:20260419
DTSTAMP:20260420T060629
CREATED:20260226T161547Z
LAST-MODIFIED:20260418T150930Z
UID:43335-1776470400-1776556799@atletismodamadeira.pt
SUMMARY:Corrida de São Lourenço
DESCRIPTION:Local: Caniçal\n \nOrganização: JFC/AARAM\n \nÂmbito: Regional \nObservações: Madeira a Correr (individual e coletiva) e Mini Madeira a Correr\n \n 
URL:http://atletismodamadeira.pt/event/corrida-de-sao-lourenco-5/
LOCATION:Caniçal\, Portugal
CATEGORIES:Estrada,Madeira a Correr,Mini Madeira a Correr
END:VEVENT
BEGIN:VEVENT
DTSTART;VALUE=DATE:20260418
DTEND;VALUE=DATE:20260419
DTSTAMP:20260420T060629
CREATED:20260318T130542Z
LAST-MODIFIED:20260418T154904Z
UID:43625-1776470400-1776556799@atletismodamadeira.pt
SUMMARY:Camp. Regionais Escolares - 3ª jornada
DESCRIPTION:Local: Câmara de Lobos (Estádio)\n \nOrganização: DSDE/AARAM\n \nÂmbito: Regional \nObservações: Escolar\n \n  \n \n \n 
URL:http://atletismodamadeira.pt/event/camp-regionais-escolares-3a-jornada/
LOCATION:Câmara de Lobos – Estádio\, Sítio do Carmo\, Câmara de Lobos\, Madeira\, 9300\, Portugal
CATEGORIES:Escolar,Pista / Escolar,Regional
ORGANIZER;CN="DSDE%2FAARAM":MAILTO:dsde.atletismo@gmail.com
END:VEVENT
BEGIN:VEVENT
DTSTART;TZID=Atlantic/Madeira:20260419T100000
DTEND;TZID=Atlantic/Madeira:20260419T123000
DTSTAMP:20260420T060629
CREATED:20260318T125515Z
LAST-MODIFIED:20260419T112112Z
UID:43615-1776592800-1776601800@atletismodamadeira.pt
SUMMARY:Olímpico Jovem - jornada 1
DESCRIPTION:Local: Ribeira Brava (Centro Desportivo da Madeira)\n \nOrganização: AARAM\n \nÂmbito: Regional \nObservações: \n \n \n  \n \n \n  \n \n 
URL:http://atletismodamadeira.pt/event/olimpico-jovem-jornada-1/
LOCATION:Ribeira Brava (CDM)\, Sítio da Fajã da Ribeira (7\,95 km)\, Ribeira Brava\, Madeira\, 9350-147\, Portugal
CATEGORIES:Pista,Regional
END:VEVENT
END:VCALENDAR