BEGIN:VCALENDAR
VERSION:2.0
PRODID:-//Associação de Atletismo da Região Autónoma da Madeira - ECPv5.1.6//NONSGML v1.0//EN
CALSCALE:GREGORIAN
METHOD:PUBLISH
X-WR-CALNAME:Associação de Atletismo da Região Autónoma da Madeira
X-ORIGINAL-URL:http://atletismodamadeira.pt
X-WR-CALDESC:Events for Associação de Atletismo da Região Autónoma da Madeira
BEGIN:VTIMEZONE
TZID:Atlantic/Madeira
BEGIN:DAYLIGHT
TZOFFSETFROM:+0000
TZOFFSETTO:+0100
TZNAME:WEST
DTSTART:20250330T010000
END:DAYLIGHT
BEGIN:STANDARD
TZOFFSETFROM:+0100
TZOFFSETTO:+0000
TZNAME:WET
DTSTART:20251026T010000
END:STANDARD
END:VTIMEZONE
BEGIN:VEVENT
DTSTART;VALUE=DATE:20250928
DTEND;VALUE=DATE:20250929
DTSTAMP:20260421T171022
CREATED:20250808T104150Z
LAST-MODIFIED:20251001T094821Z
UID:41126-1759017600-1759103999@atletismodamadeira.pt
SUMMARY:Corrida do Aeroporto
DESCRIPTION:Local: Santa Cruz \nOrganização: ANA\, Aeroportos de Portugal S.A. / AARAM \nÂmbito: Regional \nOs participantes da I Corrida | Caminhada do Aeroporto da Madeira estão autorizados a estacionar gratuitamente no parque de estacionamento P0 Pesados\, na zona das chegadas\, entre as 07h45 e as 11h30.\nÀ entrada\, deverão identificar-se com o dorsal da corrida/caminhada junto do elemento que estará a coordenar os estacionamentos. \nRecomendamos a partilha de viatura\, uma vez que os lugares são limitados. \nInformamos ainda\, que os trabalhadores do Aeroporto da Madeira deverão utilizar os seus estacionamentos habituais. \nAgradecemos aos participantes que se desloquem para o aeroporto com alguma antecedência\, pois haverá alguns condicionamentos na circulação rodoviária.  \n  \n(retificado) \n \n \n 
URL:http://atletismodamadeira.pt/event/corrida-do-aeroporto/
CATEGORIES:Estrada
END:VEVENT
END:VCALENDAR