BEGIN:VCALENDAR
VERSION:2.0
PRODID:-//Associação de Atletismo da Região Autónoma da Madeira - ECPv5.1.6//NONSGML v1.0//EN
CALSCALE:GREGORIAN
METHOD:PUBLISH
X-WR-CALNAME:Associação de Atletismo da Região Autónoma da Madeira
X-ORIGINAL-URL:http://atletismodamadeira.pt
X-WR-CALDESC:Events for Associação de Atletismo da Região Autónoma da Madeira
BEGIN:VTIMEZONE
TZID:Atlantic/Madeira
BEGIN:DAYLIGHT
TZOFFSETFROM:+0000
TZOFFSETTO:+0100
TZNAME:WEST
DTSTART:20230326T010000
END:DAYLIGHT
BEGIN:STANDARD
TZOFFSETFROM:+0100
TZOFFSETTO:+0000
TZNAME:WET
DTSTART:20231029T010000
END:STANDARD
END:VTIMEZONE
BEGIN:VEVENT
DTSTART;VALUE=DATE:20231202
DTEND;VALUE=DATE:20231203
DTSTAMP:20260421T140909
CREATED:20231026T114359Z
LAST-MODIFIED:20231026T114359Z
UID:32961-1701475200-1701561599@atletismodamadeira.pt
SUMMARY:Curso de Juízes Estagiários de Atletismo - 2023 - dia 2
DESCRIPTION:Inscrições até ao dia –  20 de novembro de 2023
URL:http://atletismodamadeira.pt/event/curso-de-juizes-estagiarios-de-atletismo-2023-dia-2/
LOCATION:Câmara de Lobos – Estádio\, Sítio do Carmo\, Câmara de Lobos\, Madeira\, 9300\, Portugal
CATEGORIES:Formação,Regional
END:VEVENT
END:VCALENDAR