BEGIN:VCALENDAR
VERSION:2.0
PRODID:-//Associação de Atletismo da Região Autónoma da Madeira - ECPv5.1.6//NONSGML v1.0//EN
CALSCALE:GREGORIAN
METHOD:PUBLISH
X-WR-CALNAME:Associação de Atletismo da Região Autónoma da Madeira
X-ORIGINAL-URL:http://atletismodamadeira.pt
X-WR-CALDESC:Events for Associação de Atletismo da Região Autónoma da Madeira
BEGIN:VTIMEZONE
TZID:Atlantic/Madeira
BEGIN:DAYLIGHT
TZOFFSETFROM:+0000
TZOFFSETTO:+0100
TZNAME:WEST
DTSTART:20240331T010000
END:DAYLIGHT
BEGIN:STANDARD
TZOFFSETFROM:+0100
TZOFFSETTO:+0000
TZNAME:WET
DTSTART:20241027T010000
END:STANDARD
END:VTIMEZONE
BEGIN:VEVENT
DTSTART;TZID=Atlantic/Madeira:20241012T170000
DTEND;TZID=Atlantic/Madeira:20241012T180000
DTSTAMP:20260422T143849
CREATED:20240917T144008Z
LAST-MODIFIED:20241014T101248Z
UID:37047-1728752400-1728756000@atletismodamadeira.pt
SUMMARY:Corrida Regional dos Professores
DESCRIPTION:Local: Funchal\n \nOrganização: SPM / AARAM \nÂmbito: Regional \nObservações: Madeira a Correr
URL:http://atletismodamadeira.pt/event/corrida-regional-dos-professores/
LOCATION:Funchal\, Funchal\, Madeira\, Portugal
CATEGORIES:Estrada,Madeira a Correr,Regional
END:VEVENT
END:VCALENDAR