BEGIN:VCALENDAR
VERSION:2.0
PRODID:-//Associação de Atletismo da Região Autónoma da Madeira - ECPv5.1.6//NONSGML v1.0//EN
CALSCALE:GREGORIAN
METHOD:PUBLISH
X-WR-CALNAME:Associação de Atletismo da Região Autónoma da Madeira
X-ORIGINAL-URL:http://atletismodamadeira.pt
X-WR-CALDESC:Events for Associação de Atletismo da Região Autónoma da Madeira
BEGIN:VTIMEZONE
TZID:Atlantic/Madeira
BEGIN:DAYLIGHT
TZOFFSETFROM:+0000
TZOFFSETTO:+0100
TZNAME:WEST
DTSTART:20250330T010000
END:DAYLIGHT
BEGIN:STANDARD
TZOFFSETFROM:+0100
TZOFFSETTO:+0000
TZNAME:WET
DTSTART:20251026T010000
END:STANDARD
END:VTIMEZONE
BEGIN:VEVENT
DTSTART;VALUE=DATE:20251129
DTEND;VALUE=DATE:20251130
DTSTAMP:20260422T034821
CREATED:20251029T162817Z
LAST-MODIFIED:20251129T215405Z
UID:41825-1764374400-1764460799@atletismodamadeira.pt
SUMMARY:Torneio de Abertura de Pista
DESCRIPTION:Local: Funchal (RG3) e Ribeira Brava (CDM)\n \nOrganização: AARAM\n \nÂmbito: Regional \nObservações: pista\n \n 
URL:http://atletismodamadeira.pt/event/torneio-de-abertura-de-pista-2/
LOCATION:Funchal (RG3) e Ribeira Brava (CDM)\, Sítio da Fajã da Ribeira\, Ribeira Brava\, 9350
CATEGORIES:Pista,Regional
END:VEVENT
BEGIN:VEVENT
DTSTART;TZID=Atlantic/Madeira:20251129T093000
DTEND;TZID=Atlantic/Madeira:20251129T123000
DTSTAMP:20260422T034821
CREATED:20251104T120056Z
LAST-MODIFIED:20251129T114436Z
UID:41905-1764408600-1764419400@atletismodamadeira.pt
SUMMARY:1º Encontro Fun'Athletics - Sub-12
DESCRIPTION:Local: Câmara de Lobos (Estádio)\n \nOrganização: AARAM \nÂmbito: Regional \nObservações: Taça Fun’Athletics \n 
URL:http://atletismodamadeira.pt/event/1o-encontro-funathletics-sub-12-2/
LOCATION:Câmara de Lobos – Estádio\, Sítio do Carmo\, Câmara de Lobos\, Madeira\, 9300\, Portugal
CATEGORIES:Pista,Regional,Taça Fun'Athletics
END:VEVENT
END:VCALENDAR