BEGIN:VCALENDAR
VERSION:2.0
PRODID:-//Associação de Atletismo da Região Autónoma da Madeira - ECPv5.1.6//NONSGML v1.0//EN
CALSCALE:GREGORIAN
METHOD:PUBLISH
X-WR-CALNAME:Associação de Atletismo da Região Autónoma da Madeira
X-ORIGINAL-URL:http://atletismodamadeira.pt
X-WR-CALDESC:Events for Associação de Atletismo da Região Autónoma da Madeira
BEGIN:VTIMEZONE
TZID:UTC
BEGIN:STANDARD
TZOFFSETFROM:+0000
TZOFFSETTO:+0000
TZNAME:UTC
DTSTART:20160101T000000
END:STANDARD
END:VTIMEZONE
BEGIN:VEVENT
DTSTART;VALUE=DATE:20160214
DTEND;VALUE=DATE:20160215
DTSTAMP:20260422T061839
CREATED:20160103T160740Z
LAST-MODIFIED:20160221T152724Z
UID:443-1455408000-1455494399@atletismodamadeira.pt
SUMMARY:Trail de Porto Moniz / São Vicente
DESCRIPTION:Regulamento: Página do Evento \nÂmbito: Regional \nOrganização: CMOF \nObservações: Madeira Trail \nResultados Oficiais – CURTO \nResultados Oficiais – ULTRA
URL:http://atletismodamadeira.pt/event/trail-de-porto-moniz-sao-vicente/
LOCATION:P.Moniz / S.Vicente\, Portugal
CATEGORIES:Trail
END:VEVENT
END:VCALENDAR