BEGIN:VCALENDAR
VERSION:2.0
PRODID:-//Associação de Atletismo da Região Autónoma da Madeira - ECPv5.1.6//NONSGML v1.0//EN
CALSCALE:GREGORIAN
METHOD:PUBLISH
X-WR-CALNAME:Associação de Atletismo da Região Autónoma da Madeira
X-ORIGINAL-URL:http://atletismodamadeira.pt
X-WR-CALDESC:Events for Associação de Atletismo da Região Autónoma da Madeira
BEGIN:VTIMEZONE
TZID:UTC
BEGIN:STANDARD
TZOFFSETFROM:+0000
TZOFFSETTO:+0000
TZNAME:UTC
DTSTART:20160101T000000
END:STANDARD
END:VTIMEZONE
BEGIN:VEVENT
DTSTART;TZID=UTC:20160305T073000
DTEND;TZID=UTC:20160305T140000
DTSTAMP:20260422T044707
CREATED:20160103T160740Z
LAST-MODIFIED:20160309T102411Z
UID:448-1457163000-1457186400@atletismodamadeira.pt
SUMMARY:Porto Santo Trail - Camp. Regional de Trail
DESCRIPTION:Âmbito: Internacional \nOrganização: AARAM \nObservações: Madeira Trail \nver Resultados \nver REGULAMENTO \n 
URL:http://atletismodamadeira.pt/event/trail-do-porto-santo-campeonato-regional/
LOCATION:Porto Santo\, Portugal
CATEGORIES:Trail
END:VEVENT
END:VCALENDAR