BEGIN:VCALENDAR
VERSION:2.0
PRODID:-//Associação de Atletismo da Região Autónoma da Madeira - ECPv5.1.6//NONSGML v1.0//EN
CALSCALE:GREGORIAN
METHOD:PUBLISH
X-WR-CALNAME:Associação de Atletismo da Região Autónoma da Madeira
X-ORIGINAL-URL:http://atletismodamadeira.pt
X-WR-CALDESC:Events for Associação de Atletismo da Região Autónoma da Madeira
BEGIN:VTIMEZONE
TZID:UTC
BEGIN:STANDARD
TZOFFSETFROM:+0000
TZOFFSETTO:+0000
TZNAME:UTC
DTSTART:20160101T000000
END:STANDARD
END:VTIMEZONE
BEGIN:VEVENT
DTSTART;VALUE=DATE:20160403
DTEND;VALUE=DATE:20160404
DTSTAMP:20260422T031247
CREATED:20160103T160741Z
LAST-MODIFIED:20160414T182321Z
UID:455-1459641600-1459727999@atletismodamadeira.pt
SUMMARY:Trail do Ludens de Machico
DESCRIPTION:Âmbito: Regional \nOrganização: LCM \nObservações: Madeira Trail \nInformações: http://www.ludensmachico.pt/trailmx/index.php \n \nver RESULTADOS do Mini Trail da Rota da Cidra (curto) \nver RESULTADOS do Trail Rota das Funduras (longo)
URL:http://atletismodamadeira.pt/event/trail-do-ludens-de-machico/
LOCATION:Machico\, Portugal
CATEGORIES:Trail
END:VEVENT
END:VCALENDAR