BEGIN:VCALENDAR
VERSION:2.0
PRODID:-//Associação de Atletismo da Região Autónoma da Madeira - ECPv5.1.6//NONSGML v1.0//EN
CALSCALE:GREGORIAN
METHOD:PUBLISH
X-WR-CALNAME:Associação de Atletismo da Região Autónoma da Madeira
X-ORIGINAL-URL:http://atletismodamadeira.pt
X-WR-CALDESC:Events for Associação de Atletismo da Região Autónoma da Madeira
BEGIN:VTIMEZONE
TZID:UTC
BEGIN:STANDARD
TZOFFSETFROM:+0000
TZOFFSETTO:+0000
TZNAME:UTC
DTSTART:20160101T000000
END:STANDARD
END:VTIMEZONE
BEGIN:VEVENT
DTSTART;VALUE=DATE:20160904
DTEND;VALUE=DATE:20160905
DTSTAMP:20260421T191547
CREATED:20160103T160744Z
LAST-MODIFIED:20160907T181201Z
UID:496-1472947200-1473033599@atletismodamadeira.pt
SUMMARY:Trail de Santa Cruz
DESCRIPTION:Âmbito: Regional \nOrganização: CAMAD \nObservações: Madeira Trail \nResultados 10km – CURTO \nResultados 21km – LONGO
URL:http://atletismodamadeira.pt/event/trail-de-santa-cruz/
LOCATION:Santa Cruz\, Portugal
CATEGORIES:Trail
END:VEVENT
END:VCALENDAR