BEGIN:VCALENDAR
VERSION:2.0
PRODID:-//Associação de Atletismo da Região Autónoma da Madeira - ECPv5.1.6//NONSGML v1.0//EN
CALSCALE:GREGORIAN
METHOD:PUBLISH
X-WR-CALNAME:Associação de Atletismo da Região Autónoma da Madeira
X-ORIGINAL-URL:http://atletismodamadeira.pt
X-WR-CALDESC:Events for Associação de Atletismo da Região Autónoma da Madeira
BEGIN:VTIMEZONE
TZID:UTC
BEGIN:STANDARD
TZOFFSETFROM:+0000
TZOFFSETTO:+0000
TZNAME:UTC
DTSTART:20160101T000000
END:STANDARD
END:VTIMEZONE
BEGIN:VEVENT
DTSTART;TZID=UTC:20160917T060000
DTEND;TZID=UTC:20160917T180000
DTSTAMP:20260421T191533
CREATED:20160103T160744Z
LAST-MODIFIED:20160926T170703Z
UID:492-1474092000-1474135200@atletismodamadeira.pt
SUMMARY:Ponta do Sol - Madeira Trail Series
DESCRIPTION:Âmbito: Regional \nOrganização: DN/CMPS/AARAM \nObservações: Madeira Trail \nINFORMAÇÃO: \nDevido aos recentes acontecimentos\, vimos por este meio informar que o Trail da Ponta de Sol – Madeira Trail Series foi adiado para 17 de Setembro. \n  \n \nVer página do Evento Aqui! \nver REGULAMENTO \n\nResultados Oficiais – TPS CURTO – 12k \nResultados Oficiais – TPS LONGO – 24k \nResultados Oficiais – TPS LONGO – 30k
URL:http://atletismodamadeira.pt/event/ponta-do-sol-madeira-trail-series/
LOCATION:Ponta do Sol\, Portugal
CATEGORIES:Trail
END:VEVENT
END:VCALENDAR