BEGIN:VCALENDAR
VERSION:2.0
PRODID:-//Associação de Atletismo da Região Autónoma da Madeira - ECPv5.1.6//NONSGML v1.0//EN
CALSCALE:GREGORIAN
METHOD:PUBLISH
X-WR-CALNAME:Associação de Atletismo da Região Autónoma da Madeira
X-ORIGINAL-URL:http://atletismodamadeira.pt
X-WR-CALDESC:Events for Associação de Atletismo da Região Autónoma da Madeira
BEGIN:VTIMEZONE
TZID:Atlantic/Madeira
BEGIN:DAYLIGHT
TZOFFSETFROM:+0000
TZOFFSETTO:+0100
TZNAME:WEST
DTSTART:20170326T010000
END:DAYLIGHT
BEGIN:STANDARD
TZOFFSETFROM:+0100
TZOFFSETTO:+0000
TZNAME:WET
DTSTART:20171029T010000
END:STANDARD
END:VTIMEZONE
BEGIN:VEVENT
DTSTART;TZID=Atlantic/Madeira:20170205T050000
DTEND;TZID=Atlantic/Madeira:20170205T180000
DTSTAMP:20260421T113558
CREATED:20161109T170608Z
LAST-MODIFIED:20170203T172544Z
UID:3280-1486270800-1486317600@atletismodamadeira.pt
SUMMARY:Trail do Porto Moniz
DESCRIPTION:Local: Porto Moniz \nOrganização: CMOF \nÂmbito: Regional \nObservações: Trail Madeira
URL:http://atletismodamadeira.pt/event/trail-de-sao-vicente-porto-moniz/
LOCATION:P.Moniz / S.Vicente\, Portugal
CATEGORIES:Trail,Trail Madeira
END:VEVENT
END:VCALENDAR