BEGIN:VCALENDAR
VERSION:2.0
PRODID:-//Associação de Atletismo da Região Autónoma da Madeira - ECPv5.1.6//NONSGML v1.0//EN
CALSCALE:GREGORIAN
METHOD:PUBLISH
X-WR-CALNAME:Associação de Atletismo da Região Autónoma da Madeira
X-ORIGINAL-URL:http://atletismodamadeira.pt
X-WR-CALDESC:Events for Associação de Atletismo da Região Autónoma da Madeira
BEGIN:VTIMEZONE
TZID:Atlantic/Madeira
BEGIN:DAYLIGHT
TZOFFSETFROM:+0000
TZOFFSETTO:+0100
TZNAME:WEST
DTSTART:20170326T010000
END:DAYLIGHT
BEGIN:STANDARD
TZOFFSETFROM:+0100
TZOFFSETTO:+0000
TZNAME:WET
DTSTART:20171029T010000
END:STANDARD
END:VTIMEZONE
BEGIN:VEVENT
DTSTART;TZID=Atlantic/Madeira:20170521T080000
DTEND;TZID=Atlantic/Madeira:20170521T140000
DTSTAMP:20260421T062629
CREATED:20170105T161416Z
LAST-MODIFIED:20170512T090530Z
UID:3940-1495353600-1495375200@atletismodamadeira.pt
SUMMARY:Trail "de Coração na Natureza"
DESCRIPTION:Local: Porto da Cruz \nOrganização: CDEPC \nÂmbito: Regional \nObservações: Trail Madeira \n \n \n \n 
URL:http://atletismodamadeira.pt/event/trail-de-coracao-na-natureza/
LOCATION:Porto da Cruz\, Portugal
CATEGORIES:Regional,Trail,Trail Madeira
END:VEVENT
END:VCALENDAR