BEGIN:VCALENDAR
VERSION:2.0
PRODID:-//Associação de Atletismo da Região Autónoma da Madeira - ECPv5.1.6//NONSGML v1.0//EN
CALSCALE:GREGORIAN
METHOD:PUBLISH
X-WR-CALNAME:Associação de Atletismo da Região Autónoma da Madeira
X-ORIGINAL-URL:http://atletismodamadeira.pt
X-WR-CALDESC:Events for Associação de Atletismo da Região Autónoma da Madeira
BEGIN:VTIMEZONE
TZID:Atlantic/Madeira
BEGIN:DAYLIGHT
TZOFFSETFROM:+0000
TZOFFSETTO:+0100
TZNAME:WEST
DTSTART:20170326T010000
END:DAYLIGHT
BEGIN:STANDARD
TZOFFSETFROM:+0100
TZOFFSETTO:+0000
TZNAME:WET
DTSTART:20171029T010000
END:STANDARD
END:VTIMEZONE
BEGIN:VEVENT
DTSTART;TZID=Atlantic/Madeira:20170723T060000
DTEND;TZID=Atlantic/Madeira:20170723T180000
DTSTAMP:20260421T031742
CREATED:20170105T165758Z
LAST-MODIFIED:20170712T084612Z
UID:3982-1500789600-1500832800@atletismodamadeira.pt
SUMMARY:Trail Porto da Cruz Natura
DESCRIPTION:Local: Porto da Cruz \nOrganização: JFPC \nÂmbito: Regional \nObservações: Trail Madeira \n \n 
URL:http://atletismodamadeira.pt/event/trail-porto-da-cruz-natura-2/
LOCATION:Porto da Cruz\, Portugal
CATEGORIES:Regional,Trail,Trail Madeira
END:VEVENT
END:VCALENDAR