BEGIN:VCALENDAR
VERSION:2.0
PRODID:-//Associação de Atletismo da Região Autónoma da Madeira - ECPv5.1.6//NONSGML v1.0//EN
CALSCALE:GREGORIAN
METHOD:PUBLISH
X-WR-CALNAME:Associação de Atletismo da Região Autónoma da Madeira
X-ORIGINAL-URL:http://atletismodamadeira.pt
X-WR-CALDESC:Events for Associação de Atletismo da Região Autónoma da Madeira
BEGIN:VTIMEZONE
TZID:Atlantic/Madeira
BEGIN:DAYLIGHT
TZOFFSETFROM:+0000
TZOFFSETTO:+0100
TZNAME:WEST
DTSTART:20170326T010000
END:DAYLIGHT
BEGIN:STANDARD
TZOFFSETFROM:+0100
TZOFFSETTO:+0000
TZNAME:WET
DTSTART:20171029T010000
END:STANDARD
END:VTIMEZONE
BEGIN:VEVENT
DTSTART;TZID=Atlantic/Madeira:20171209T080000
DTEND;TZID=Atlantic/Madeira:20171209T140000
DTSTAMP:20260420T190143
CREATED:20171023T144803Z
LAST-MODIFIED:20171023T144803Z
UID:7176-1512806400-1512828000@atletismodamadeira.pt
SUMMARY:Trail Noturno Pela Vida
DESCRIPTION:Âmbito: Regional \nOrganização: LCM-M \nObservações: Madeira Trail \n \n \n 
URL:http://atletismodamadeira.pt/event/trail-noturno-pela-vida/
CATEGORIES:Regional,Trail,Trail Madeira
END:VEVENT
END:VCALENDAR