BEGIN:VCALENDAR
VERSION:2.0
PRODID:-//Associação de Atletismo da Região Autónoma da Madeira - ECPv5.1.6//NONSGML v1.0//EN
CALSCALE:GREGORIAN
METHOD:PUBLISH
X-WR-CALNAME:Associação de Atletismo da Região Autónoma da Madeira
X-ORIGINAL-URL:http://atletismodamadeira.pt
X-WR-CALDESC:Events for Associação de Atletismo da Região Autónoma da Madeira
BEGIN:VTIMEZONE
TZID:Atlantic/Madeira
BEGIN:DAYLIGHT
TZOFFSETFROM:+0000
TZOFFSETTO:+0100
TZNAME:WEST
DTSTART:20180325T010000
END:DAYLIGHT
BEGIN:STANDARD
TZOFFSETFROM:+0100
TZOFFSETTO:+0000
TZNAME:WET
DTSTART:20181028T010000
END:STANDARD
END:VTIMEZONE
BEGIN:VEVENT
DTSTART;TZID=Atlantic/Madeira:20180609T093000
DTEND;TZID=Atlantic/Madeira:20180609T131500
DTSTAMP:20260420T094933
CREATED:20180205T191444Z
LAST-MODIFIED:20180528T164758Z
UID:8701-1528536600-1528550100@atletismodamadeira.pt
SUMMARY:Trail da Zona Militar da Madeira
DESCRIPTION:Local: \nOrganização: ZMM \nÂmbito: Regional \nObservações: Trail Madeira
URL:http://atletismodamadeira.pt/event/trail-da-zona-militar-da-madeira/
CATEGORIES:Regional,Trail,Trail Madeira
END:VEVENT
END:VCALENDAR