BEGIN:VCALENDAR
VERSION:2.0
PRODID:-//Associação de Atletismo da Região Autónoma da Madeira - ECPv5.1.6//NONSGML v1.0//EN
CALSCALE:GREGORIAN
METHOD:PUBLISH
X-WR-CALNAME:Associação de Atletismo da Região Autónoma da Madeira
X-ORIGINAL-URL:http://atletismodamadeira.pt
X-WR-CALDESC:Events for Associação de Atletismo da Região Autónoma da Madeira
BEGIN:VTIMEZONE
TZID:Atlantic/Madeira
BEGIN:DAYLIGHT
TZOFFSETFROM:+0000
TZOFFSETTO:+0100
TZNAME:WEST
DTSTART:20180325T010000
END:DAYLIGHT
BEGIN:STANDARD
TZOFFSETFROM:+0100
TZOFFSETTO:+0000
TZNAME:WET
DTSTART:20181028T010000
END:STANDARD
END:VTIMEZONE
BEGIN:VEVENT
DTSTART;TZID=Atlantic/Madeira:20180915T080000
DTEND;TZID=Atlantic/Madeira:20180915T170000
DTSTAMP:20260420T045756
CREATED:20180510T135802Z
LAST-MODIFIED:20180917T182738Z
UID:10367-1536998400-1537030800@atletismodamadeira.pt
SUMMARY:Trail de Água de Pena
DESCRIPTION:Local: Machico (Água de Pena) \nOrganização: ADRAP/AARAM \nÂmbito: Regional \nObservações: Trail Madeira \n  \n \n15 Set – Trail Água de Pena – Provisórios \nTLAP – 26Km \nTCAP – 16Km \n 
URL:http://atletismodamadeira.pt/event/trail-de-agua-de-pena-3/
LOCATION:Água de Pena\, Portugal
CATEGORIES:Regional,Trail,Trail Madeira
END:VEVENT
END:VCALENDAR