BEGIN:VCALENDAR
VERSION:2.0
PRODID:-//Associação de Atletismo da Região Autónoma da Madeira - ECPv5.1.6//NONSGML v1.0//EN
CALSCALE:GREGORIAN
METHOD:PUBLISH
X-WR-CALNAME:Associação de Atletismo da Região Autónoma da Madeira
X-ORIGINAL-URL:http://atletismodamadeira.pt
X-WR-CALDESC:Events for Associação de Atletismo da Região Autónoma da Madeira
BEGIN:VTIMEZONE
TZID:Atlantic/Madeira
BEGIN:DAYLIGHT
TZOFFSETFROM:+0000
TZOFFSETTO:+0100
TZNAME:WEST
DTSTART:20180325T010000
END:DAYLIGHT
BEGIN:STANDARD
TZOFFSETFROM:+0100
TZOFFSETTO:+0000
TZNAME:WET
DTSTART:20181028T010000
END:STANDARD
END:VTIMEZONE
BEGIN:VEVENT
DTSTART;TZID=Atlantic/Madeira:20181004T080000
DTEND;TZID=Atlantic/Madeira:20181007T170000
DTSTAMP:20260420T033713
CREATED:20180510T143518Z
LAST-MODIFIED:20181016T155250Z
UID:10379-1538640000-1538931600@atletismodamadeira.pt
SUMMARY:Ultra Madeira 2018
DESCRIPTION:Local: Ponta do Pargo – Caniçal \nOrganização: AARAM \nÂmbito: Regional \nObservações: Trail Madeira \n  \n \nResultados – 5Km \nResultados – 17Km \nResultados – 30Km \nResultados – 85Km
URL:http://atletismodamadeira.pt/event/ultra-madeira-2018/
LOCATION:Ponta do Pargo – Caniçal\, Portugal
CATEGORIES:Regional,Trail,Trail Madeira
END:VEVENT
END:VCALENDAR