BEGIN:VCALENDAR
VERSION:2.0
PRODID:-//Associação de Atletismo da Região Autónoma da Madeira - ECPv5.1.6//NONSGML v1.0//EN
CALSCALE:GREGORIAN
METHOD:PUBLISH
X-WR-CALNAME:Associação de Atletismo da Região Autónoma da Madeira
X-ORIGINAL-URL:https://atletismodamadeira.pt
X-WR-CALDESC:Events for Associação de Atletismo da Região Autónoma da Madeira
BEGIN:VTIMEZONE
TZID:Atlantic/Madeira
BEGIN:DAYLIGHT
TZOFFSETFROM:+0000
TZOFFSETTO:+0100
TZNAME:WEST
DTSTART:20180325T010000
END:DAYLIGHT
BEGIN:STANDARD
TZOFFSETFROM:+0100
TZOFFSETTO:+0000
TZNAME:WET
DTSTART:20181028T010000
END:STANDARD
END:VTIMEZONE
BEGIN:VEVENT
DTSTART;TZID=Atlantic/Madeira:20180325T100000
DTEND;TZID=Atlantic/Madeira:20180325T130000
DTSTAMP:20260420T104718
CREATED:20171024T143505Z
LAST-MODIFIED:20180326T171826Z
UID:7271-1521972000-1521982800@atletismodamadeira.pt
SUMMARY:Taça de Portugal de Montanha / Campeonato Regional de Montanha
DESCRIPTION:Âmbito: Regional/Nacional \nOrganização: AARAM \nObservações: Taça Madeira \nInscrições:  \nEstão abertas as inscrições para o Campeonato Regional de Montanha\, até dia 22 de Março de 2018.
URL:https://atletismodamadeira.pt/event/campeonato-regional-montanha/
LOCATION:Porto Moniz\, Portugal
CATEGORIES:Montanha,Regional,Taça da Madeira
END:VEVENT
END:VCALENDAR