BEGIN:VCALENDAR
VERSION:2.0
PRODID:-//Associação de Atletismo da Região Autónoma da Madeira - ECPv5.1.6//NONSGML v1.0//EN
CALSCALE:GREGORIAN
METHOD:PUBLISH
X-WR-CALNAME:Associação de Atletismo da Região Autónoma da Madeira
X-ORIGINAL-URL:https://atletismodamadeira.pt
X-WR-CALDESC:Events for Associação de Atletismo da Região Autónoma da Madeira
BEGIN:VTIMEZONE
TZID:Atlantic/Madeira
BEGIN:DAYLIGHT
TZOFFSETFROM:+0000
TZOFFSETTO:+0100
TZNAME:WEST
DTSTART:20180325T010000
END:DAYLIGHT
BEGIN:STANDARD
TZOFFSETFROM:+0100
TZOFFSETTO:+0000
TZNAME:WET
DTSTART:20181028T010000
END:STANDARD
END:VTIMEZONE
BEGIN:VEVENT
DTSTART;VALUE=DATE:20180407
DTEND;VALUE=DATE:20180409
DTSTAMP:20260420T122728
CREATED:20171024T133818Z
LAST-MODIFIED:20180409T135606Z
UID:7263-1523059200-1523231999@atletismodamadeira.pt
SUMMARY:Campeonato Regional de Provas Combinadas
DESCRIPTION:Local: Ribeira Brava \nOrganização: AARAM \nÂmbito: Regional \nObservações: Taça da Madeira / Taça Jovem \n  \n \n 
URL:https://atletismodamadeira.pt/event/campeonato-regional-provas-combinadas-2/
LOCATION:Ribeira Brava (CDM)\, Sítio da Fajã da Ribeira (7\,95 km)\, Ribeira Brava\, Madeira\, 9350-147\, Portugal
CATEGORIES:Pista,Regional,Taça da Madeira
END:VEVENT
END:VCALENDAR