BEGIN:VCALENDAR
VERSION:2.0
PRODID:-//Associação de Atletismo da Região Autónoma da Madeira - ECPv5.1.6//NONSGML v1.0//EN
CALSCALE:GREGORIAN
METHOD:PUBLISH
X-WR-CALNAME:Associação de Atletismo da Região Autónoma da Madeira
X-ORIGINAL-URL:https://atletismodamadeira.pt
X-WR-CALDESC:Events for Associação de Atletismo da Região Autónoma da Madeira
BEGIN:VTIMEZONE
TZID:Atlantic/Madeira
BEGIN:DAYLIGHT
TZOFFSETFROM:+0000
TZOFFSETTO:+0100
TZNAME:WEST
DTSTART:20230326T010000
END:DAYLIGHT
BEGIN:STANDARD
TZOFFSETFROM:+0100
TZOFFSETTO:+0000
TZNAME:WET
DTSTART:20231029T010000
END:STANDARD
END:VTIMEZONE
BEGIN:VEVENT
DTSTART;VALUE=DATE:20230128
DTEND;VALUE=DATE:20230130
DTSTAMP:20260422T154006
CREATED:20230110T233540Z
LAST-MODIFIED:20230129T135854Z
UID:29543-1674864000-1675036799@atletismodamadeira.pt
SUMMARY:Campeonatos Regionais de Veteranos - Inverno
DESCRIPTION:Local: Funchal (RG3) / Ribeira Brava (CDM)\n \nOrganização: AARAM \nÂmbito: Regional \nObservações: Em conjunto com o Master Athletics International Meeting  \n \n \n \n  \nTabela de calçado aprovado pela World Athletics \n(link do site da Confederação Brasileira de Atletismo\, tabela regularmente atualizada)
URL:https://atletismodamadeira.pt/event/campeonatos-regionais-de-veteranos-de-inverno/
LOCATION:Funchal (RG3) e Ribeira Brava (CDM)\, Sítio da Fajã da Ribeira\, Ribeira Brava\, 9350
CATEGORIES:Pista,Regional
END:VEVENT
END:VCALENDAR