BEGIN:VCALENDAR
VERSION:2.0
PRODID:-//Associação de Atletismo da Região Autónoma da Madeira - ECPv5.1.6//NONSGML v1.0//EN
CALSCALE:GREGORIAN
METHOD:PUBLISH
X-WR-CALNAME:Associação de Atletismo da Região Autónoma da Madeira
X-ORIGINAL-URL:https://atletismodamadeira.pt
X-WR-CALDESC:Events for Associação de Atletismo da Região Autónoma da Madeira
BEGIN:VTIMEZONE
TZID:Atlantic/Madeira
BEGIN:DAYLIGHT
TZOFFSETFROM:+0000
TZOFFSETTO:+0100
TZNAME:WEST
DTSTART:20180325T010000
END:DAYLIGHT
BEGIN:STANDARD
TZOFFSETFROM:+0100
TZOFFSETTO:+0000
TZNAME:WET
DTSTART:20181028T010000
END:STANDARD
END:VTIMEZONE
BEGIN:VEVENT
DTSTART;TZID=Atlantic/Madeira:20180603T095000
DTEND;TZID=Atlantic/Madeira:20180603T110000
DTSTAMP:20260421T120812
CREATED:20180205T191311Z
LAST-MODIFIED:20180603T110145Z
UID:8699-1528019400-1528023600@atletismodamadeira.pt
SUMMARY:Circuito do Caniço
DESCRIPTION:Local: Caniço \nOrganização: CKC / AARAM \nÂmbito: Regional \nObservações: 
URL:https://atletismodamadeira.pt/event/circuito-do-canico/
LOCATION:Caniço\, Portugal
CATEGORIES:Estrada,Regional
END:VEVENT
END:VCALENDAR