BEGIN:VCALENDAR
VERSION:2.0
PRODID:-//Associação de Atletismo da Região Autónoma da Madeira - ECPv5.1.6//NONSGML v1.0//EN
CALSCALE:GREGORIAN
METHOD:PUBLISH
X-WR-CALNAME:Associação de Atletismo da Região Autónoma da Madeira
X-ORIGINAL-URL:https://atletismodamadeira.pt
X-WR-CALDESC:Events for Associação de Atletismo da Região Autónoma da Madeira
BEGIN:VTIMEZONE
TZID:Atlantic/Madeira
BEGIN:DAYLIGHT
TZOFFSETFROM:+0000
TZOFFSETTO:+0100
TZNAME:WEST
DTSTART:20230326T010000
END:DAYLIGHT
BEGIN:STANDARD
TZOFFSETFROM:+0100
TZOFFSETTO:+0000
TZNAME:WET
DTSTART:20231029T010000
END:STANDARD
END:VTIMEZONE
BEGIN:VEVENT
DTSTART;VALUE=DATE:20230224
DTEND;VALUE=DATE:20230225
DTSTAMP:20260423T022349
CREATED:20230116T120426Z
LAST-MODIFIED:20230227T183802Z
UID:29604-1677196800-1677283199@atletismodamadeira.pt
SUMMARY:Corta Mato Jovem e Escolar
DESCRIPTION:Local: Funchal (Jardins do Lido)\n \nOrganização: AARAM/DSDE \nÂmbito: Regional e Escolar \nObservações: Taças de Infantis e de Iniciados \n  \n \n \nResultados – Sub 10 (Benjamins A) \nResultados – Sub 12 (Infantis 1) (corrigido) \nResultados – Sub 14 (Infantis 2) (corrigido) \nResultados – Cat. Especiais \nResultados – Sub 16 (Iniciados) (corrigido) \nResultados – Sub 18 (Juvenis) (corrigido) \nResultados – Sub 20 (juniores) \nParticipantes \n  \n 
URL:https://atletismodamadeira.pt/event/corta-mato-jovem-e-escolar/
LOCATION:Funchal\, Lido\, Funchal\, Portugal
CATEGORIES:Corta-Mato,Escolar,Regional
ORGANIZER;CN="DSDE%2FAARAM":MAILTO:dsde.atletismo@gmail.com
END:VEVENT
END:VCALENDAR