BEGIN:VCALENDAR
VERSION:2.0
PRODID:-//Associação de Atletismo da Região Autónoma da Madeira - ECPv5.1.6//NONSGML v1.0//EN
CALSCALE:GREGORIAN
METHOD:PUBLISH
X-WR-CALNAME:Associação de Atletismo da Região Autónoma da Madeira
X-ORIGINAL-URL:https://atletismodamadeira.pt
X-WR-CALDESC:Events for Associação de Atletismo da Região Autónoma da Madeira
BEGIN:VTIMEZONE
TZID:Atlantic/Madeira
BEGIN:DAYLIGHT
TZOFFSETFROM:+0000
TZOFFSETTO:+0100
TZNAME:WEST
DTSTART:20230326T010000
END:DAYLIGHT
BEGIN:STANDARD
TZOFFSETFROM:+0100
TZOFFSETTO:+0000
TZNAME:WET
DTSTART:20231029T010000
END:STANDARD
END:VTIMEZONE
BEGIN:VEVENT
DTSTART;TZID=Atlantic/Madeira:20231209T093000
DTEND;TZID=Atlantic/Madeira:20231209T123000
DTSTAMP:20260421T011951
CREATED:20231026T114644Z
LAST-MODIFIED:20231026T114721Z
UID:32963-1702114200-1702125000@atletismodamadeira.pt
SUMMARY:Curso de Juízes Estagiários de Atletismo - 2023 - dia 3
DESCRIPTION:Inscrições até ao dia –  20 de novembro de 2023
URL:https://atletismodamadeira.pt/event/curso-de-juizes-estagiarios-de-atletismo-2023-dia-3/
LOCATION:Câmara de Lobos – Estádio\, Sítio do Carmo\, Câmara de Lobos\, Madeira\, 9300\, Portugal
CATEGORIES:Formação,Regional
END:VEVENT
END:VCALENDAR