BEGIN:VCALENDAR
VERSION:2.0
PRODID:-//Associação de Atletismo da Região Autónoma da Madeira - ECPv5.1.6//NONSGML v1.0//EN
CALSCALE:GREGORIAN
METHOD:PUBLISH
X-WR-CALNAME:Associação de Atletismo da Região Autónoma da Madeira
X-ORIGINAL-URL:https://atletismodamadeira.pt
X-WR-CALDESC:Events for Associação de Atletismo da Região Autónoma da Madeira
BEGIN:VTIMEZONE
TZID:Atlantic/Madeira
BEGIN:DAYLIGHT
TZOFFSETFROM:+0000
TZOFFSETTO:+0100
TZNAME:WEST
DTSTART:20230326T010000
END:DAYLIGHT
BEGIN:STANDARD
TZOFFSETFROM:+0100
TZOFFSETTO:+0000
TZNAME:WET
DTSTART:20231029T010000
END:STANDARD
END:VTIMEZONE
BEGIN:VEVENT
DTSTART;VALUE=DATE:20230617
DTEND;VALUE=DATE:20230618
DTSTAMP:20260426T033340
CREATED:20230524T110134Z
LAST-MODIFIED:20230617T175724Z
UID:31232-1686960000-1687046399@atletismodamadeira.pt
SUMMARY:Grande Prémio Santo da Serra
DESCRIPTION:Local: Santo da Serra\n \nOrganização: JFSAS / AARAM \nÂmbito: Regional \nObservações: Madeira a Correr\n \n 
URL:https://atletismodamadeira.pt/event/grande-premio-do-santo-da-serra/
LOCATION:Santo da Serra
CATEGORIES:Estrada,Madeira a Correr,Regional
END:VEVENT
END:VCALENDAR