BEGIN:VCALENDAR
VERSION:2.0
PRODID:-//Associação de Atletismo da Região Autónoma da Madeira - ECPv5.1.6//NONSGML v1.0//EN
CALSCALE:GREGORIAN
METHOD:PUBLISH
X-WR-CALNAME:Associação de Atletismo da Região Autónoma da Madeira
X-ORIGINAL-URL:https://atletismodamadeira.pt
X-WR-CALDESC:Events for Associação de Atletismo da Região Autónoma da Madeira
BEGIN:VTIMEZONE
TZID:Atlantic/Madeira
BEGIN:DAYLIGHT
TZOFFSETFROM:+0000
TZOFFSETTO:+0100
TZNAME:WEST
DTSTART:20180325T010000
END:DAYLIGHT
BEGIN:STANDARD
TZOFFSETFROM:+0100
TZOFFSETTO:+0000
TZNAME:WET
DTSTART:20181028T010000
END:STANDARD
END:VTIMEZONE
BEGIN:VEVENT
DTSTART;TZID=Atlantic/Madeira:20180527T083000
DTEND;TZID=Atlantic/Madeira:20180527T130000
DTSTAMP:20260421T150852
CREATED:20180205T191043Z
LAST-MODIFIED:20180528T134914Z
UID:8697-1527409800-1527426000@atletismodamadeira.pt
SUMMARY:Meia-Maratona ATLÂNTIDA
DESCRIPTION:Local: Funchal \nOrganização: AARAM \nÂmbito: Regional \nObservações: Madeira a Correr \nTodos os atletas federados ou não federados inscritos na prova\, devem levantar um dorsal com um chip incorporado. \nO secretariado da prova funcionará na sede da AARAM em Câmara de Lobos\, no seguinte horário: \n\nQuinta-Feira (24 de Maio) – das 15:00 às 19:00;\nSexta-Feira (25 de Maio) – das 10:00 às 13:00\, reabrindo das 14h00 às 18h00\n\nPrograma: \nPelas 08H30 – Meia Maratona  \nPelas 09H00 – Mini Maratona  \nPelas 09H05 – Marcha da Saúde  \nPelas 09H05 – Prova dos Jovens  \n  \n \n \n \n  \n \n \n  \n  \n  \n 
URL:https://atletismodamadeira.pt/event/meia-maratona-atlantida-2/
LOCATION:Câmara de Lobos\, Câmara de Lobos\, 9300\, Portugal
CATEGORIES:Estrada,Madeira a Correr,Regional
END:VEVENT
END:VCALENDAR