BEGIN:VCALENDAR
VERSION:2.0
PRODID:-//Associação de Atletismo da Região Autónoma da Madeira - ECPv5.1.6//NONSGML v1.0//EN
CALSCALE:GREGORIAN
METHOD:PUBLISH
X-WR-CALNAME:Associação de Atletismo da Região Autónoma da Madeira
X-ORIGINAL-URL:https://atletismodamadeira.pt
X-WR-CALDESC:Events for Associação de Atletismo da Região Autónoma da Madeira
BEGIN:VTIMEZONE
TZID:Atlantic/Madeira
BEGIN:DAYLIGHT
TZOFFSETFROM:+0000
TZOFFSETTO:+0100
TZNAME:WEST
DTSTART:20240331T010000
END:DAYLIGHT
BEGIN:STANDARD
TZOFFSETFROM:+0100
TZOFFSETTO:+0000
TZNAME:WET
DTSTART:20241027T010000
END:STANDARD
END:VTIMEZONE
BEGIN:VEVENT
DTSTART;VALUE=DATE:20240505
DTEND;VALUE=DATE:20240506
DTSTAMP:20260423T080312
CREATED:20240408T094522Z
LAST-MODIFIED:20240509T120216Z
UID:35069-1714867200-1714953599@atletismodamadeira.pt
SUMMARY:Circuito da Rota dos Dragoeiros
DESCRIPTION:Local: Funchal – São Gonçalo\n \nOrganização: JFSG/AARAM \nÂmbito: Regional \nObservações: Madeira a Correr\n \n  \n \n \n \n \n 
URL:https://atletismodamadeira.pt/event/circuito-da-rota-dos-dragoeiros-7/
CATEGORIES:Estrada,Madeira a Correr,Regional
END:VEVENT
END:VCALENDAR