BEGIN:VCALENDAR
VERSION:2.0
PRODID:-//Associação de Atletismo da Região Autónoma da Madeira - ECPv5.1.6//NONSGML v1.0//EN
CALSCALE:GREGORIAN
METHOD:PUBLISH
X-WR-CALNAME:Associação de Atletismo da Região Autónoma da Madeira
X-ORIGINAL-URL:https://atletismodamadeira.pt
X-WR-CALDESC:Events for Associação de Atletismo da Região Autónoma da Madeira
BEGIN:VTIMEZONE
TZID:Atlantic/Madeira
BEGIN:DAYLIGHT
TZOFFSETFROM:+0000
TZOFFSETTO:+0100
TZNAME:WEST
DTSTART:20240331T010000
END:DAYLIGHT
BEGIN:STANDARD
TZOFFSETFROM:+0100
TZOFFSETTO:+0000
TZNAME:WET
DTSTART:20241027T010000
END:STANDARD
END:VTIMEZONE
BEGIN:VEVENT
DTSTART;TZID=Atlantic/Madeira:20240630T093000
DTEND;TZID=Atlantic/Madeira:20240630T110000
DTSTAMP:20260423T064316
CREATED:20240604T103518Z
LAST-MODIFIED:20240630T091733Z
UID:35912-1719739800-1719745200@atletismodamadeira.pt
SUMMARY:Corrida do Dia da Região - Freguesia da Sé | Alterações
DESCRIPTION:Local: Sé / Funchal\n \nOrganização: JFS / AARAM \nÂmbito: Regional \nObservações: Madeira a Correr\n \nAlterações: \nPor imperativos de ordem logística\, devido às comemorações do dia 1 de julho\, a prova será realizada no dia 30 de junho\, pelas 09h30 e com um novo percurso.
URL:https://atletismodamadeira.pt/event/corrida-do-dia-da-regiao-freguesia-da-se-2/
LOCATION:Funchal\, Funchal\, Madeira\, Portugal
CATEGORIES:Estrada,Madeira a Correr,Mini Madeira a Correr,Regional
END:VEVENT
END:VCALENDAR