BEGIN:VCALENDAR
VERSION:2.0
PRODID:-//Associação de Atletismo da Região Autónoma da Madeira - ECPv5.1.6//NONSGML v1.0//EN
CALSCALE:GREGORIAN
METHOD:PUBLISH
X-WR-CALNAME:Associação de Atletismo da Região Autónoma da Madeira
X-ORIGINAL-URL:https://atletismodamadeira.pt
X-WR-CALDESC:Events for Associação de Atletismo da Região Autónoma da Madeira
BEGIN:VTIMEZONE
TZID:Atlantic/Madeira
BEGIN:DAYLIGHT
TZOFFSETFROM:+0000
TZOFFSETTO:+0100
TZNAME:WEST
DTSTART:20250330T010000
END:DAYLIGHT
BEGIN:STANDARD
TZOFFSETFROM:+0100
TZOFFSETTO:+0000
TZNAME:WET
DTSTART:20251026T010000
END:STANDARD
END:VTIMEZONE
BEGIN:VEVENT
DTSTART;VALUE=DATE:20250504
DTEND;VALUE=DATE:20250505
DTSTAMP:20260422T164540
CREATED:20250401T135900Z
LAST-MODIFIED:20250505T084115Z
UID:39623-1746316800-1746403199@atletismodamadeira.pt
SUMMARY:Circuito da Rota dos Dragoeiros
DESCRIPTION:Local: Funchal – São Gonçalo\n \nOrganização: JFSG/AARAM \nÂmbito: Regional \nObservações: Madeira a Correr\n \nINFORMAÇÃO \nAtendendo às obras de requalificação que estão a decorrer na Estrada do  Aeroporto\, no troço entre a Cancela e o cruzamento com Caminho Velho da Camacha e que não se prevê a sua conclusão para os tempos mais próximos\, somos forçados este ano a delinear excecionalmente\, um novo percurso para a prova “XX Circuito Rota dos Dragoeiros- Junta de Freguesia de São Gonçalo.” \n 
URL:https://atletismodamadeira.pt/event/circuito-da-rota-dos-dragoeiros-8/
LOCATION:Funchal\, Funchal\, Madeira\, Portugal
CATEGORIES:Estrada,Madeira a Correr,Regional
END:VEVENT
END:VCALENDAR