BEGIN:VCALENDAR
VERSION:2.0
PRODID:-//Associação de Atletismo da Região Autónoma da Madeira - ECPv5.1.6//NONSGML v1.0//EN
CALSCALE:GREGORIAN
METHOD:PUBLISH
X-WR-CALNAME:Associação de Atletismo da Região Autónoma da Madeira
X-ORIGINAL-URL:https://atletismodamadeira.pt
X-WR-CALDESC:Events for Associação de Atletismo da Região Autónoma da Madeira
BEGIN:VTIMEZONE
TZID:Atlantic/Madeira
BEGIN:DAYLIGHT
TZOFFSETFROM:+0000
TZOFFSETTO:+0100
TZNAME:WEST
DTSTART:20210328T010000
END:DAYLIGHT
BEGIN:STANDARD
TZOFFSETFROM:+0100
TZOFFSETTO:+0000
TZNAME:WET
DTSTART:20211031T010000
END:STANDARD
END:VTIMEZONE
BEGIN:VEVENT
DTSTART;VALUE=DATE:20211023
DTEND;VALUE=DATE:20211024
DTSTAMP:20260423T152959
CREATED:20211023T134223Z
LAST-MODIFIED:20211024T004747Z
UID:24321-1634947200-1635033599@atletismodamadeira.pt
SUMMARY:ECOTRAIL FUNCHAL 2021
DESCRIPTION:Local: Funchal \nOrganização: DN & AARAM \nÂmbito: Internacional \nObservações: Trail Madeira \nResultados\nResultados 15km \nResultados 30km \nResultados 45km \nResultados 85km
URL:https://atletismodamadeira.pt/event/ecotrail-funchal-2021/
CATEGORIES:Internacional,Nacional,Regional,Trail,Trail Madeira
END:VEVENT
END:VCALENDAR