BEGIN:VCALENDAR
VERSION:2.0
PRODID:-//Associação de Atletismo da Região Autónoma da Madeira - ECPv5.1.6//NONSGML v1.0//EN
CALSCALE:GREGORIAN
METHOD:PUBLISH
X-WR-CALNAME:Associação de Atletismo da Região Autónoma da Madeira
X-ORIGINAL-URL:https://atletismodamadeira.pt
X-WR-CALDESC:Events for Associação de Atletismo da Região Autónoma da Madeira
BEGIN:VTIMEZONE
TZID:Atlantic/Madeira
BEGIN:DAYLIGHT
TZOFFSETFROM:+0000
TZOFFSETTO:+0100
TZNAME:WEST
DTSTART:20220327T010000
END:DAYLIGHT
BEGIN:STANDARD
TZOFFSETFROM:+0100
TZOFFSETTO:+0000
TZNAME:WET
DTSTART:20221030T010000
END:STANDARD
END:VTIMEZONE
BEGIN:VEVENT
DTSTART;TZID=Atlantic/Madeira:20220911T080000
DTEND;TZID=Atlantic/Madeira:20220911T140000
DTSTAMP:20260422T213707
CREATED:20220815T204222Z
LAST-MODIFIED:20220913T095425Z
UID:28014-1662883200-1662904800@atletismodamadeira.pt
SUMMARY:Trail Água de Pena
DESCRIPTION:RESULTADOS\n\nResultados – Trail Longo 27 km \nResultados – Trail Curto – 12km
URL:https://atletismodamadeira.pt/event/trail-de-agua-de-pena-5/
CATEGORIES:Nacional,Trail,Trail Madeira
END:VEVENT
END:VCALENDAR