BEGIN:VCALENDAR
VERSION:2.0
PRODID:-//Associação de Atletismo da Região Autónoma da Madeira - ECPv5.1.6//NONSGML v1.0//EN
CALSCALE:GREGORIAN
METHOD:PUBLISH
X-WR-CALNAME:Associação de Atletismo da Região Autónoma da Madeira
X-ORIGINAL-URL:https://atletismodamadeira.pt
X-WR-CALDESC:Events for Associação de Atletismo da Região Autónoma da Madeira
BEGIN:VTIMEZONE
TZID:Atlantic/Madeira
BEGIN:DAYLIGHT
TZOFFSETFROM:+0000
TZOFFSETTO:+0100
TZNAME:WEST
DTSTART:20240331T010000
END:DAYLIGHT
BEGIN:STANDARD
TZOFFSETFROM:+0100
TZOFFSETTO:+0000
TZNAME:WET
DTSTART:20241027T010000
END:STANDARD
END:VTIMEZONE
BEGIN:VEVENT
DTSTART;VALUE=DATE:20241207
DTEND;VALUE=DATE:20241208
DTSTAMP:20260422T030912
CREATED:20241003T170744Z
LAST-MODIFIED:20241207T191850Z
UID:37307-1733529600-1733615999@atletismodamadeira.pt
SUMMARY:Torneio Salto em Altura Jovem - CRI s14/s16-j3
DESCRIPTION:Local: Pista da Ribeira Brava (CDM)\n \nOrganização: AARAM \nÂmbito: Regional \nObservações: CR Inverno s14/s16 / PACRAM \n \n \n \n \n 
URL:https://atletismodamadeira.pt/event/torneio-salto-em-altura-jovem-cri-s14-s16-j3/
LOCATION:Ribeira Brava (CDM)\, Sítio da Fajã da Ribeira (7\,95 km)\, Ribeira Brava\, Madeira\, 9350-147\, Portugal
CATEGORIES:PACRAM,Pista,Regional
END:VEVENT
END:VCALENDAR