BEGIN:VCALENDAR
VERSION:2.0
PRODID:-//Associação de Atletismo da Região Autónoma da Madeira - ECPv5.1.6//NONSGML v1.0//EN
CALSCALE:GREGORIAN
METHOD:PUBLISH
X-WR-CALNAME:Associação de Atletismo da Região Autónoma da Madeira
X-ORIGINAL-URL:https://atletismodamadeira.pt
X-WR-CALDESC:Events for Associação de Atletismo da Região Autónoma da Madeira
BEGIN:VTIMEZONE
TZID:Atlantic/Madeira
BEGIN:DAYLIGHT
TZOFFSETFROM:+0000
TZOFFSETTO:+0100
TZNAME:WEST
DTSTART:20250330T010000
END:DAYLIGHT
BEGIN:STANDARD
TZOFFSETFROM:+0100
TZOFFSETTO:+0000
TZNAME:WET
DTSTART:20251026T010000
END:STANDARD
END:VTIMEZONE
BEGIN:VEVENT
DTSTART;TZID=Atlantic/Madeira:20250702T193000
DTEND;TZID=Atlantic/Madeira:20250702T213000
DTSTAMP:20260421T164823
CREATED:20250509T173205Z
LAST-MODIFIED:20250703T111822Z
UID:40110-1751484600-1751491800@atletismodamadeira.pt
SUMMARY:Campeonatos Regionais de Sub-20 - j.5
DESCRIPTION:Local: Ribeira Brava (CDM)\n \nOrganização: AARAM \nÂmbito: Regional \nObservações: PACRAM \n \n \n \n  \n \n 
URL:https://atletismodamadeira.pt/event/campeonatos-regionais-de-sub-20-j5/
LOCATION:Ribeira Brava (CDM)\, Sítio da Fajã da Ribeira (7\,95 km)\, Ribeira Brava\, Madeira\, 9350-147\, Portugal
CATEGORIES:PACRAM,Pista,Regional
END:VEVENT
END:VCALENDAR